BEGIN:VCALENDAR
VERSION:2.0
PRODID:-//YWCA of Queens - ECPv4.9.3.1//NONSGML v1.0//EN
CALSCALE:GREGORIAN
METHOD:PUBLISH
X-WR-CALNAME:YWCA of Queens
X-ORIGINAL-URL:http://ywcaqueens.org
X-WR-CALDESC:Events for YWCA of Queens
BEGIN:VEVENT
DTSTART;TZID=America/New_York:20180703T120000
DTEND;TZID=America/New_York:20180703T130000
DTSTAMP:20260419T154506
CREATED:20171226T172442Z
LAST-MODIFIED:20171226T172442Z
UID:10186-1530619200-1530622800@ywcaqueens.org
SUMMARY:Yoga
DESCRIPTION:
URL:http://ywcaqueens.org/event/yoga-2/2018-07-03/
CATEGORIES:Evergreen Senior Center
END:VEVENT
END:VCALENDAR