BEGIN:VCALENDAR
VERSION:2.0
PRODID:-//YWCA of Queens - ECPv4.9.3.1//NONSGML v1.0//EN
CALSCALE:GREGORIAN
METHOD:PUBLISH
X-WR-CALNAME:YWCA of Queens
X-ORIGINAL-URL:http://ywcaqueens.org
X-WR-CALDESC:Events for YWCA of Queens
BEGIN:VEVENT
DTSTART;TZID=America/New_York:20220315T123000
DTEND;TZID=America/New_York:20220315T133000
DTSTAMP:20260420T123800
CREATED:20220314T195449Z
LAST-MODIFIED:20220314T195449Z
UID:16724-1647347400-1647351000@ywcaqueens.org
SUMMARY:Self-Defense Training
DESCRIPTION:Join us in Creating a World Without Hate: \nSelf-Defense Training (Free Registration) Call 718-353-4553 \nDate: 3/15/2022\, 3/22/2022\, 3/29/2022 \nTime: 12:30pm-1:30pm | 1:30pm-2:30pm \nLocation: Champions Martial Arts Flushing (141-20 Northern Blvd Flushing\, NY 11354) \n  \n \n
URL:http://ywcaqueens.org/event/self-defense-training/2022-03-15/
LOCATION:Champions Martial Arts Flushing\, 141-20 Northern Blvd\, Flushing\, NY\, 11354\, United States
END:VEVENT
END:VCALENDAR