BEGIN:VCALENDAR
VERSION:2.0
PRODID:-//YWCA of Queens - ECPv4.9.3.1//NONSGML v1.0//EN
CALSCALE:GREGORIAN
METHOD:PUBLISH
X-WR-CALNAME:YWCA of Queens
X-ORIGINAL-URL:http://ywcaqueens.org
X-WR-CALDESC:Events for YWCA of Queens
BEGIN:VEVENT
DTSTART;TZID=America/New_York:20220302T190000
DTEND;TZID=America/New_York:20220302T200000
DTSTAMP:20260423T115340
CREATED:20220226T002212Z
LAST-MODIFIED:20220226T002212Z
UID:16553-1646247600-1646251200@ywcaqueens.org
SUMMARY:Minority and Women-Owned Business Enterprise "MWBE" Certification Workshop
DESCRIPTION:\n\n\n\nBenefits of MWBE Certification: \nHigher chance of obtaining Grants\, funding\, or securing loans \nHigher chance of obtaining contracts from larger corporations that often have specific budgets to promote diverse suppliers. \n\n\n\n\nTo register for the workshop\, contact KAFSC’s 24-hr hotline at 718-460-3800\, or email to contact@kafsc.org. \n \n\n\n\n\n\n\n\n\n
URL:http://ywcaqueens.org/event/minority-and-women-owned-business-enterprise-mwbe-certification-workshop/
LOCATION:KCS\, 203-05 32nd Avenue Bayside\, NY 11361
END:VEVENT
END:VCALENDAR