BEGIN:VCALENDAR
VERSION:2.0
PRODID:-//YWCA of Queens - ECPv4.9.3.1//NONSGML v1.0//EN
CALSCALE:GREGORIAN
METHOD:PUBLISH
X-WR-CALNAME:YWCA of Queens
X-ORIGINAL-URL:http://ywcaqueens.org
X-WR-CALDESC:Events for YWCA of Queens
BEGIN:VEVENT
DTSTART;TZID=America/New_York:20250528T103000
DTEND;TZID=America/New_York:20250528T113000
DTSTAMP:20260421T091951
CREATED:20250523T194417Z
LAST-MODIFIED:20250523T194417Z
UID:22782-1748428200-1748431800@ywcaqueens.org
SUMMARY:May Access Health Workshop - "Traumatic Brain Injury Workshop
DESCRIPTION:Join us on Zoom:\nhttps://us06web.zoom.us/j/5619042749?pwd=2PMOWfgb1Txyu7eAXJT0AelItIGPMD.1&omn=87216591757\nMeeting ID: 561 904 2749\nPasscode: 1212\nOr In Person at 29-30 Union St.\, Flushing 11354\n   \n
URL:http://ywcaqueens.org/event/may-access-health-workshop-traumatic-brain-injury-workshop/
LOCATION:29-30 Union Street
CATEGORIES:Community Support Department
ATTACH;FMTTYPE=image/png:http://ywcaqueens.org/wp-content/uploads/2025/05/English.png
END:VEVENT
END:VCALENDAR