BEGIN:VCALENDAR
VERSION:2.0
PRODID:-//YWCA of Queens - ECPv4.9.3.1//NONSGML v1.0//EN
CALSCALE:GREGORIAN
METHOD:PUBLISH
X-WR-CALNAME:YWCA of Queens
X-ORIGINAL-URL:http://ywcaqueens.org
X-WR-CALDESC:Events for YWCA of Queens
BEGIN:VEVENT
DTSTART;TZID=America/New_York:20180702T120000
DTEND;TZID=America/New_York:20180702T133000
DTSTAMP:20260423T132000
CREATED:20171226T171510Z
LAST-MODIFIED:20171226T171510Z
UID:10133-1530532800-1530538200@ywcaqueens.org
SUMMARY:Janggu - 3rd Semester
DESCRIPTION:
URL:http://ywcaqueens.org/event/janggu-3rd-semester/2018-07-02/
CATEGORIES:Evergreen Senior Center
END:VEVENT
END:VCALENDAR