BEGIN:VCALENDAR
VERSION:2.0
PRODID:-//YWCA of Queens - ECPv4.9.3.1//NONSGML v1.0//EN
CALSCALE:GREGORIAN
METHOD:PUBLISH
X-WR-CALNAME:YWCA of Queens
X-ORIGINAL-URL:http://ywcaqueens.org
X-WR-CALDESC:Events for YWCA of Queens
BEGIN:VEVENT
DTSTART;TZID=America/New_York:20220108T090000
DTEND;TZID=America/New_York:20220108T140000
DTSTAMP:20260419T154636
CREATED:20220103T092224Z
LAST-MODIFIED:20220103T093812Z
UID:16023-1641632400-1641650400@ywcaqueens.org
SUMMARY:Covid Vaccine Booster
DESCRIPTION:Get a free Vaccine Booster at the YWCA of Queens! (Pfizer & Moderna Booster only) Available to ages 12+ \nRegister at  https://somosvaccination.mdland.com/p/covid/ \nRemember to wear a masks to keep others safe. \n \n
URL:http://ywcaqueens.org/event/covid-vaccine-booster/
LOCATION:YWCA of Queens\, 4207 Parsons Blvd\, Queens\, NY\, 11355\, United States
CATEGORIES:Community Support Department
END:VEVENT
END:VCALENDAR