BEGIN:VCALENDAR
VERSION:2.0
PRODID:-//YWCA of Queens - ECPv4.9.3.1//NONSGML v1.0//EN
CALSCALE:GREGORIAN
METHOD:PUBLISH
X-WR-CALNAME:YWCA of Queens
X-ORIGINAL-URL:http://ywcaqueens.org
X-WR-CALDESC:Events for YWCA of Queens
BEGIN:VEVENT
DTSTART;TZID=America/New_York:20220526T190000
DTEND;TZID=America/New_York:20220526T190000
DTSTAMP:20260422T094927
CREATED:20220520T190925Z
LAST-MODIFIED:20220520T190925Z
UID:16824-1653591600-1653591600@ywcaqueens.org
SUMMARY:44th Annual Virtual Gala
DESCRIPTION:Join us for our 44th Annual Virtual Gala !\nAttendance to this Gala is FREE. At the time of the event head to ywcaqueens.org \nFor sponsorship opportunities head to: \n44th Anniversary Gala \n \nWe look forward to seeing you there! \n
URL:http://ywcaqueens.org/event/44th-annual-virtual-gala/
END:VEVENT
END:VCALENDAR