BEGIN:VCALENDAR
VERSION:2.0
PRODID:-//YWCA of Queens - ECPv4.9.3.1//NONSGML v1.0//EN
CALSCALE:GREGORIAN
METHOD:PUBLISH
X-WR-CALNAME:YWCA of Queens
X-ORIGINAL-URL:http://ywcaqueens.org
X-WR-CALDESC:Events for YWCA of Queens
BEGIN:VEVENT
DTSTART;TZID=America/New_York:20180419T183000
DTEND;TZID=America/New_York:20180419T213000
DTSTAMP:20260421T113945
CREATED:20180216T203842Z
LAST-MODIFIED:20180216T203850Z
UID:10226-1524162600-1524173400@ywcaqueens.org
SUMMARY:40th Annual Gala
DESCRIPTION:
URL:http://ywcaqueens.org/event/40th-annual-gala/
LOCATION:Terrace on the Park\, 52-11 111th St\, Flushing\, NY\, 11368\, United States
GEO:40.7441109;-73.851759
X-APPLE-STRUCTURED-LOCATION;VALUE=URI;X-ADDRESS=Terrace on the Park 52-11 111th St Flushing NY 11368 United States;X-APPLE-RADIUS=500;X-TITLE=52-11 111th St:geo:-73.851759,40.7441109
CATEGORIES:Events
END:VEVENT
END:VCALENDAR