BEGIN:VCALENDAR
VERSION:2.0
PRODID:-//YWCA of Queens - ECPv4.9.3.1//NONSGML v1.0//EN
CALSCALE:GREGORIAN
METHOD:PUBLISH
X-WR-CALNAME:YWCA of Queens
X-ORIGINAL-URL:http://ywcaqueens.org
X-WR-CALDESC:Events for YWCA of Queens
BEGIN:VEVENT
DTSTART;TZID=America/New_York:20180122T090000
DTEND;TZID=America/New_York:20180122T120000
DTSTAMP:20260421T103923
CREATED:20171222T190102Z
LAST-MODIFIED:20171226T153113Z
UID:9133-1516611600-1516622400@ywcaqueens.org
SUMMARY:ESOL - Level 1
DESCRIPTION:
URL:http://ywcaqueens.org/event/esol-level-1/2018-01-22/
CATEGORIES:ESOL & HSE
END:VEVENT
BEGIN:VEVENT
DTSTART;TZID=America/New_York:20180122T090000
DTEND;TZID=America/New_York:20180122T120000
DTSTAMP:20260421T103923
CREATED:20171226T154600Z
LAST-MODIFIED:20171226T154600Z
UID:9469-1516611600-1516622400@ywcaqueens.org
SUMMARY:ESOL - Level 2
DESCRIPTION:
URL:http://ywcaqueens.org/event/esol-level-2/2018-01-22/
CATEGORIES:ESOL & HSE
END:VEVENT
BEGIN:VEVENT
DTSTART;TZID=America/New_York:20180122T090000
DTEND;TZID=America/New_York:20180122T120000
DTSTAMP:20260421T103923
CREATED:20171226T160539Z
LAST-MODIFIED:20171226T160539Z
UID:9660-1516611600-1516622400@ywcaqueens.org
SUMMARY:ESOL - Level 5-6
DESCRIPTION:
URL:http://ywcaqueens.org/event/esol-level-5-6/2018-01-22/
CATEGORIES:ESOL & HSE
END:VEVENT
BEGIN:VEVENT
DTSTART;TZID=America/New_York:20180122T090000
DTEND;TZID=America/New_York:20180122T120000
DTSTAMP:20260421T103923
CREATED:20171226T170858Z
LAST-MODIFIED:20171226T170858Z
UID:10064-1516611600-1516622400@ywcaqueens.org
SUMMARY:HSE
DESCRIPTION:
URL:http://ywcaqueens.org/event/hse-2/2018-01-22/
CATEGORIES:ESOL & HSE
END:VEVENT
END:VCALENDAR